BEGIN:VCALENDAR
VERSION:2.0
PRODID:-//Folk Music Society of Huntington - ECPv6.15.20//NONSGML v1.0//EN
CALSCALE:GREGORIAN
METHOD:PUBLISH
X-ORIGINAL-URL:https://fmsh.org
X-WR-CALDESC:Events for Folk Music Society of Huntington
REFRESH-INTERVAL;VALUE=DURATION:PT1H
X-Robots-Tag:noindex
X-PUBLISHED-TTL:PT1H
BEGIN:VTIMEZONE
TZID:America/New_York
BEGIN:DAYLIGHT
TZOFFSETFROM:-0500
TZOFFSETTO:-0400
TZNAME:EDT
DTSTART:20230312T070000
END:DAYLIGHT
BEGIN:STANDARD
TZOFFSETFROM:-0400
TZOFFSETTO:-0500
TZNAME:EST
DTSTART:20231105T060000
END:STANDARD
BEGIN:DAYLIGHT
TZOFFSETFROM:-0500
TZOFFSETTO:-0400
TZNAME:EDT
DTSTART:20240310T070000
END:DAYLIGHT
BEGIN:STANDARD
TZOFFSETFROM:-0400
TZOFFSETTO:-0500
TZNAME:EST
DTSTART:20241103T060000
END:STANDARD
BEGIN:DAYLIGHT
TZOFFSETFROM:-0500
TZOFFSETTO:-0400
TZNAME:EDT
DTSTART:20250309T070000
END:DAYLIGHT
BEGIN:STANDARD
TZOFFSETFROM:-0400
TZOFFSETTO:-0500
TZNAME:EST
DTSTART:20251102T060000
END:STANDARD
END:VTIMEZONE
BEGIN:VEVENT
DTSTART;TZID=America/New_York:20240515T190000
DTEND;TZID=America/New_York:20240515T220000
DTSTAMP:20260424T165650
CREATED:20240301T143424Z
LAST-MODIFIED:20240317T155709Z
UID:5177-1715799600-1715810400@fmsh.org
SUMMARY:Hard Luck Café:  Rod Abernethy -and- Abigail Dowd
DESCRIPTION:Rod Abernethy (rodabernethyguitar.com) -and- Abigail Dowd (abigaildowd.com) will take the stage during the monthly Hard Luck Café concert series co-presented by the Folk Music Society of Huntington and the Cinema Arts Centre (423 Park Avenue\, Huntington) in the Cinema’s Sky Room on Wednesday\, May 15\, from 7pm-10pm.  \nAn open mic\, for which sign-up is at 6:30pm\, precedes the concert.  Tickets are $20 ($15 for Cinema Arts Centre/FMSH members) and can be purchased online at cinemaartscentre.org or at the box office now through the evening of the event. \n \nRod Abernethy (Photo: Jonathan Byrd) \nRod Abernethy is an authentic southern folk troubadour\, master acoustic guitarist\, and award-winning songwriter and composer for film\, TV and video games. He was the Overall Grand Prize Winner of the 2021 International Acoustic Music Awards and the 2019 Grand Prize winner of American Songwriter’s Bob Dylan Song Contest. His album Normal Isn’t Normal Anymore received rave reviews from Americana Highways\, No Depression and The Wall Street Journal. At #11\, it was among the most-played albums of 2021 on folk radio according to charts compiled by Folk Alliance International.  \n \nAbigail Dowd \nAbigail Dowd grew up under the longleaf pines in the Sandhills region of North Carolina. A singer-songwriter and guitarist known for her storytelling and command of an audience\, she has been called “a writer of the highest caliber” (The All Scene Eye). Pulling from her heritage of storytelling and determination\, Dowd weaves hints of Celtic melodies with the soulful gospel of the south to create a sound that dances between folk\, rock and blues. 
URL:https://fmsh.org/event/hard-luck-cafe-rod-abernathy-and-abigail-dowd/
CATEGORIES:Hard Luck Cafe and NOOM
ATTACH;FMTTYPE=image/png:https://fmsh.org/wp-content/uploads/2024/03/Rod-Abernathy.Abigail-Dowd-composite.png
END:VEVENT
END:VCALENDAR