BEGIN:VCALENDAR
VERSION:2.0
PRODID:-//Folk Music Society of Huntington - ECPv6.15.20//NONSGML v1.0//EN
CALSCALE:GREGORIAN
METHOD:PUBLISH
X-ORIGINAL-URL:https://fmsh.org
X-WR-CALDESC:Events for Folk Music Society of Huntington
REFRESH-INTERVAL;VALUE=DURATION:PT1H
X-Robots-Tag:noindex
X-PUBLISHED-TTL:PT1H
BEGIN:VTIMEZONE
TZID:America/New_York
BEGIN:DAYLIGHT
TZOFFSETFROM:-0500
TZOFFSETTO:-0400
TZNAME:EDT
DTSTART:20230312T070000
END:DAYLIGHT
BEGIN:STANDARD
TZOFFSETFROM:-0400
TZOFFSETTO:-0500
TZNAME:EST
DTSTART:20231105T060000
END:STANDARD
BEGIN:DAYLIGHT
TZOFFSETFROM:-0500
TZOFFSETTO:-0400
TZNAME:EDT
DTSTART:20240310T070000
END:DAYLIGHT
BEGIN:STANDARD
TZOFFSETFROM:-0400
TZOFFSETTO:-0500
TZNAME:EST
DTSTART:20241103T060000
END:STANDARD
BEGIN:DAYLIGHT
TZOFFSETFROM:-0500
TZOFFSETTO:-0400
TZNAME:EDT
DTSTART:20250309T070000
END:DAYLIGHT
BEGIN:STANDARD
TZOFFSETFROM:-0400
TZOFFSETTO:-0500
TZNAME:EST
DTSTART:20251102T060000
END:STANDARD
END:VTIMEZONE
BEGIN:VEVENT
DTSTART;TZID=America/New_York:20240103T190000
DTEND;TZID=America/New_York:20240103T220000
DTSTAMP:20260424T115450
CREATED:20240102T161355Z
LAST-MODIFIED:20240102T161355Z
UID:5055-1704308400-1704319200@fmsh.org
SUMMARY:NorthShore Original Open Mic (NOOM) in the Sky Room at Huntington’s Cinema Arts Centre
DESCRIPTION:Singer-Songwriter Toby Tobias (along with co-producer Jon Goldstein) will perform selections from Journey From Johannesburg— his autobiographical\, multimedia show — as the featured artist during the NorthShore Original Open Mic (NOOM) on Wednesday\, January 3.  Co-presented by the Cinema Arts Centre and the Folk Music Society of Huntington in the Cinema’s Sky Room (423 Park Avenue\, Huntington)\, the open mic runs from 7-10 p.m.\, with a featured artist performing a 30-minute set beginning around 8:30 p.m.  Sign-up starts at 6:30 p.m.  Although NOOM is free to attend\, donations will be gratefully accepted.
URL:https://fmsh.org/event/northshore-original-open-mic-noom-in-the-sky-room-at-huntingtons-cinema-arts-centre-39/
CATEGORIES:Hard Luck Cafe and NOOM
ATTACH;FMTTYPE=image/png:https://fmsh.org/wp-content/uploads/2024/01/NOOM-2024.01.03-Toby-Tobias-and-Jon-Goldstein.png
END:VEVENT
END:VCALENDAR