BEGIN:VCALENDAR
VERSION:2.0
PRODID:-//Folk Music Society of Huntington - ECPv6.15.20//NONSGML v1.0//EN
CALSCALE:GREGORIAN
METHOD:PUBLISH
X-WR-CALNAME:Folk Music Society of Huntington
X-ORIGINAL-URL:https://fmsh.org
X-WR-CALDESC:Events for Folk Music Society of Huntington
REFRESH-INTERVAL;VALUE=DURATION:PT1H
X-Robots-Tag:noindex
X-PUBLISHED-TTL:PT1H
BEGIN:VTIMEZONE
TZID:America/New_York
BEGIN:DAYLIGHT
TZOFFSETFROM:-0500
TZOFFSETTO:-0400
TZNAME:EDT
DTSTART:20220313T070000
END:DAYLIGHT
BEGIN:STANDARD
TZOFFSETFROM:-0400
TZOFFSETTO:-0500
TZNAME:EST
DTSTART:20221106T060000
END:STANDARD
BEGIN:DAYLIGHT
TZOFFSETFROM:-0500
TZOFFSETTO:-0400
TZNAME:EDT
DTSTART:20230312T070000
END:DAYLIGHT
BEGIN:STANDARD
TZOFFSETFROM:-0400
TZOFFSETTO:-0500
TZNAME:EST
DTSTART:20231105T060000
END:STANDARD
BEGIN:DAYLIGHT
TZOFFSETFROM:-0500
TZOFFSETTO:-0400
TZNAME:EDT
DTSTART:20240310T070000
END:DAYLIGHT
BEGIN:STANDARD
TZOFFSETFROM:-0400
TZOFFSETTO:-0500
TZNAME:EST
DTSTART:20241103T060000
END:STANDARD
END:VTIMEZONE
BEGIN:VEVENT
DTSTART;TZID=America/New_York:20231204T193000
DTEND;TZID=America/New_York:20231204T223000
DTSTAMP:20260424T124510
CREATED:20231201T131746Z
LAST-MODIFIED:20231204T124318Z
UID:5003-1701718200-1701729000@fmsh.org
SUMMARY:"Just Wild About Harry" Concert Set for  December 4
DESCRIPTION:Photo Credit: Robert Berkowitz/RSBImageWorks.com \nMore than two dozen of Long Island’s top musicians and songwriters will take to the stage at Landmark on Main Street’s Jeanne Rimsky Theater in Port Washington\, NY to perform the music of Harry Chapin\, the late Grammy-Award-winning singer-songwriter and social activist\, on Monday\, December 4\, at 7:30 pm. The annual Just Wild About Harry tribute concert\, relocated to the Port Washington venue\, will feature 18 acts – including concert organizer Stuart Markus and his trio Gathering Time – performing some of Chapin’s classics including “Taxi” and “Cat’s in the Cradle\,” plus many lesser hits and fan favorites like “WOLD” and “Story of a Life.” Tickets are available through Landmark on Main Street. Admission is based on a sliding scale starting at $10. \nThis year’s tribute concert\, having been rained out on its original summer date marking the anniversary of his death and ultimately scrapped over the musicians’ objections to political signage at Eisenhower Park\, will be repurposed into a birthday celebration\, said concert organizer Stuart Markus. Chapin would have turned 81 on Dec. 7. \n“For 19 years\, the Long Island music community has come together to commemorate Harry by playing his songs around the anniversary of his tragic passing\,” Markus said. “This year\, we’ll be celebrating his life with a birthday bash.” Like in past shows\, participating artists will be encouraged to put their own interpretations on his songs. “We’ve had some amazing  arrangements\, from folky to country\, from torch-song style to hard rock\,” Markus added. \n \nWhile this will be a ticketed event\, all revenues above the cost of producing the show will be donated to Long Island Cares\, the food bank founded by Chapin. A donation pledged by philanthropist Roger Tilles will offset some of those costs\, said Landmark executive director Richard Mayer. “We’re honoring Harry Chapin’s legacy in the Jeanne Rimsky Theater.” As always\, the performers will be donating their talents. \nLong Island Cares will also be collecting non-perishable food donations and selling T-shirts and other merchandise. The concert has historically been a major fundraiser for the organization and has raised thousands of pounds of food donations. “We’re looking forward to welcoming everyone to Landmark on Main to celebrate the music and stories of our beloved founder\, Harry Chapin and we appreciate the food donations and support of the audience that will be joining us\,” said Paule Pachter\, the nonprofit organization’s chief executive officer. \nAs in past years\, the Just Wild About Harry concert is being co-promoted by the Folk Music Society of Huntington\, of which Markus is a board member. Harry Chapin lived in Huntington with his family. \n \nBesides Markus and Gathering Time\, this year’s roster of performers includes newcomers Matthew Ponsot\, Roger Silverberg\, and Lisa Ann & Akiva Wharton. Other performers include Frank Walker\, Roger Street Friedman\, Martha Trachtenberg\, Debra Lynn & Lora Kendal\, Media Crime\, Talya Smilowitz\, Joe Iadanza\, Miles & Mafale\, Robinson Treacher\, Robin Eve\, Joanne Amante\, Christine Solimeno\, Judith Zweiman\, Duane Michael Tucker\, Patricia Shih & Stephen Fricker\, Grand Folk Railroad\, and Robin Greenstein\, with the possibility of other acts to be added. Guest speakers will also offer brief remarks. \nThe Just Wild About Harry concert will be livestreamed via the links below.  The livestream will begin at 7:15pm\, and the concert is scheduled to begin at 7:30pm. \nFolk Music Society of  Huntington Facebook Page:  https://www.facebook.com/FMSHLongIsland \nHarry Chapin Foundation YouTube Channel:  https://www.youtube.com/live/VHfaR6vyzBw?si=aFYIJcn8gw0P8KPX \nHarry Chapin Foundation Facebook Page:  https://fb.me/e/6wBi5JCdC \n“Just Wild About Harry” Facebook Group:  https://fb.me/e/3qE9misrq \n“Harry Chapin Memories” Facebook Group:  https://fb.me/e/1Fc99vPHC \nHarry Chapin Music Facebook Page:  https://fb.me/e/9Five9E7f \n  \nThe stream will also be shared in the “Harry Chapin: Long Live Harry Chapin” Facebook Group:  https://www.facebook.com/groups/2202149890 and in the “Harry Chapin Fans” Facebook Group:  https://www.facebook.com/groups/230511524137319
URL:https://fmsh.org/event/just-wild-about-harry-concert-set-for-december-4/
CATEGORIES:Hard Luck Cafe and NOOM
ATTACH;FMTTYPE=image/jpeg:https://fmsh.org/wp-content/uploads/2012/11/HarryChapin-RSB-crop-640-480.jpg
END:VEVENT
END:VCALENDAR