BEGIN:VCALENDAR
VERSION:2.0
PRODID:-//Folk Music Society of Huntington - ECPv6.15.20//NONSGML v1.0//EN
CALSCALE:GREGORIAN
METHOD:PUBLISH
X-WR-CALNAME:Folk Music Society of Huntington
X-ORIGINAL-URL:https://fmsh.org
X-WR-CALDESC:Events for Folk Music Society of Huntington
REFRESH-INTERVAL;VALUE=DURATION:PT1H
X-Robots-Tag:noindex
X-PUBLISHED-TTL:PT1H
BEGIN:VTIMEZONE
TZID:America/New_York
BEGIN:DAYLIGHT
TZOFFSETFROM:-0500
TZOFFSETTO:-0400
TZNAME:EDT
DTSTART:20230312T070000
END:DAYLIGHT
BEGIN:STANDARD
TZOFFSETFROM:-0400
TZOFFSETTO:-0500
TZNAME:EST
DTSTART:20231105T060000
END:STANDARD
BEGIN:DAYLIGHT
TZOFFSETFROM:-0500
TZOFFSETTO:-0400
TZNAME:EDT
DTSTART:20240310T070000
END:DAYLIGHT
BEGIN:STANDARD
TZOFFSETFROM:-0400
TZOFFSETTO:-0500
TZNAME:EST
DTSTART:20241103T060000
END:STANDARD
BEGIN:DAYLIGHT
TZOFFSETFROM:-0500
TZOFFSETTO:-0400
TZNAME:EDT
DTSTART:20250309T070000
END:DAYLIGHT
BEGIN:STANDARD
TZOFFSETFROM:-0400
TZOFFSETTO:-0500
TZNAME:EST
DTSTART:20251102T060000
END:STANDARD
END:VTIMEZONE
BEGIN:VEVENT
DTSTART;TZID=America/New_York:20240207T190000
DTEND;TZID=America/New_York:20240207T220000
DTSTAMP:20260424T111849
CREATED:20240131T124358Z
LAST-MODIFIED:20240205T111414Z
UID:5131-1707332400-1707343200@fmsh.org
SUMMARY:NorthShore Original Open Mic (NOOM) in the Sky Room at Huntington’s Cinema Arts Centre
DESCRIPTION:Janice Buckner will be the featured performer at the NorthShore Original Open Mic (NOOM) on Wednesday\, February 7.  Annie Mark and Emily Eisen will join her. Co-presented by the Cinema Arts Centre and the Folk Music Society of Huntington in the Cinema’s Sky Room (423 Park Avenue\, Huntington)\, the open mic runs from 7-10 p.m.\, with a featured artist performing a 30-minute set beginning around 8:30 p.m.  Sign-up starts at 6:30 p.m.  Although NOOM is free to attend\, donations will be gratefully accepted.
URL:https://fmsh.org/event/northshore-original-open-mic-noom-in-the-sky-room-at-huntingtons-cinema-arts-centre-46/
CATEGORIES:Hard Luck Cafe and NOOM
ATTACH;FMTTYPE=image/png:https://fmsh.org/wp-content/uploads/2024/01/NOOM-2024.02.07-Janice-Buckner.png
END:VEVENT
BEGIN:VEVENT
DTSTART;TZID=America/New_York:20240214T190000
DTEND;TZID=America/New_York:20240214T220000
DTSTAMP:20260424T111849
CREATED:20240131T124821Z
LAST-MODIFIED:20240214T125117Z
UID:5134-1707937200-1707948000@fmsh.org
SUMMARY:NorthShore Original Open Mic (NOOM) in the Sky Room at Huntington’s Cinema Arts Centre
DESCRIPTION:Steve Robinson and Matthew Ponsot will be the featured performers at the NorthShore Original Open Mic (NOOM) on Wednesday\, February 14. The two will perform in a song-swap format.  Co-presented by the Cinema Arts Centre and the Folk Music Society of Huntington in the Cinema’s Sky Room (423 Park Avenue\, Huntington)\, the open mic runs from 7-10 p.m.\, with a featured artist performing a 30-minute set beginning around 8:30 p.m.  Sign-up starts at 6:30 p.m.  Although NOOM is free to attend\, donations will be gratefully accepted.
URL:https://fmsh.org/event/northshore-original-open-mic-noom-in-the-sky-room-at-huntingtons-cinema-arts-centre-47/
CATEGORIES:Hard Luck Cafe and NOOM
ATTACH;FMTTYPE=image/png:https://fmsh.org/wp-content/uploads/2024/01/NOOM-2024.02.14-Steve-Robinson.Matthew-Ponsot.png
END:VEVENT
BEGIN:VEVENT
DTSTART;TZID=America/New_York:20240221T190000
DTEND;TZID=America/New_York:20240221T220000
DTSTAMP:20260424T111849
CREATED:20231212T155814Z
LAST-MODIFIED:20240105T140220Z
UID:5047-1708542000-1708552800@fmsh.org
SUMMARY:Hard Luck Café:  Rupert Wates
DESCRIPTION:Rupert Wates – Photo by Randy Bradbury \nSinger-songwriter Rupert Wates (rupertwatesmusic.com) will take the stage during the monthly Hard Luck Café concert series co-presented by the Folk Music Society of Huntington and the Cinema Arts Centre (423 Park Avenue\, Huntington) in the Cinema’s Sky Room on Wednesday\, February 21\, from 7pm-10pm.  \nWates will be joined on several numbers by his regular bassist\, Trifon Dimitrov; the two are featured in this video of “Guinevere”:  https://www.youtube.com/watch?v=XeRibKO4OSw \nAn open mic\, for which sign-up is at 6:30pm\, precedes the concert.  Tickets are $25 ($20 for Cinema Arts Centre/FMSH members) and can be purchased online at cinemaartscentre.org or at the box office now through the evening of the event.  \n \nRupert Wates was born in London and studied at Oxford University. He has been a full time songwriter since the late 1990s\, when he signed a publishing contract with Eaton Music Limited.  Moving in 2001 to Paris\, Wates formed his own quartet and began playing live regularly. In fall 2006 he came to the US; he is now based in New York City and Colorado.  Since coming to the US\, Wates has won more than 50 songwriting and performing awards.  \nHis music is an eclectic mix of acoustic\, melodic art/folk\, with flavors of jazz\, vaudeville and cabaret. He has released twelve solo CDs\, which have received outstanding reviews in the international online press and have been played on radio stations all over the world. In addition\, Wates’ songs have been covered by other artists in the UK\, Canada and the US. \nWates averages 120 live shows every year across acoustic venues in the US\, Canada and in Europe. He performs sometimes solo\, and sometimes with his trio or his quartet. He prefers smaller listening rooms where the audience is up-close and the emphasis is on the music.  He was voted an Artist Of The Year in both 2013 and 2016 by the international house concert network Concerts In Your Home (www.concertsinyourhome.com). In 2018\, Wates was a Finalist in the Kerrville New Folk Song Contest\, and an Emerging Artist at Falconridge Folk Festival.  \nDespite Wates’ British background\, and underpinning the universality of his music’s appeal\, Folk And Acoustic Music Exchange has called him “a prime figure in American music” (www.acousticmusic.com) and goes on: “This is one gifted sonofabitch… If you’re not hip to this guy yet you’re missing out.”  Audiences everywhere respond to Wates’ brand of melodic art/folk—haunting songs that ring true. \nDiscography: Elegies (2023)\, Instrumental (2023)\, For the People (2022)\, Lamentations (2020)\, Full Circle (2019)\,The Lights Of Paris (2017)\, Colorado Mornings (2016)\, The Nightwatchers (2015)\, The Rank Outsiders Ball (2014)\, At the Losers’ Motel (2012)\, Joe’s Café (2010)\, Dear Life (2008)\, Coast to Coast (2007) and Sweet or Bitter Wine (2005).
URL:https://fmsh.org/event/hard-luck-cafe-rupert-wates/
CATEGORIES:Hard Luck Cafe and NOOM
ATTACH;FMTTYPE=image/png:https://fmsh.org/wp-content/uploads/2023/12/Rupert-Wates-photo-by-Randy-Bradbury.png
END:VEVENT
BEGIN:VEVENT
DTSTART;TZID=America/New_York:20240228T190000
DTEND;TZID=America/New_York:20240228T220000
DTSTAMP:20260424T111849
CREATED:20240131T125007Z
LAST-MODIFIED:20240221T122517Z
UID:5138-1709146800-1709157600@fmsh.org
SUMMARY:NorthShore Original Open Mic (NOOM) in the Sky Room at Huntington’s Cinema Arts Centre
DESCRIPTION:Danny Kean will be the featured performer at the NorthShore Original Open Mic (NOOM) on Wednesday\, February 28. Co-presented by the Cinema Arts Centre and the Folk Music Society of Huntington in the Cinema’s Sky Room (423 Park Avenue\, Huntington)\, the open mic runs from 7-10 p.m.\, with a featured artist performing a 30-minute set beginning around 8:30 p.m.  Sign-up starts at 6:30 p.m.  Although NOOM is free to attend\, donations will be gratefully accepted.
URL:https://fmsh.org/event/5138/
CATEGORIES:Hard Luck Cafe and NOOM
ATTACH;FMTTYPE=image/png:https://fmsh.org/wp-content/uploads/2024/01/NOOM-2024.02.28-Danny-Kean.png
END:VEVENT
END:VCALENDAR