BEGIN:VCALENDAR
VERSION:2.0
PRODID:-//Folk Music Society of Huntington - ECPv6.15.20//NONSGML v1.0//EN
CALSCALE:GREGORIAN
METHOD:PUBLISH
X-ORIGINAL-URL:https://fmsh.org
X-WR-CALDESC:Events for Folk Music Society of Huntington
REFRESH-INTERVAL;VALUE=DURATION:PT1H
X-Robots-Tag:noindex
X-PUBLISHED-TTL:PT1H
BEGIN:VTIMEZONE
TZID:America/New_York
BEGIN:DAYLIGHT
TZOFFSETFROM:-0500
TZOFFSETTO:-0400
TZNAME:EDT
DTSTART:20220313T070000
END:DAYLIGHT
BEGIN:STANDARD
TZOFFSETFROM:-0400
TZOFFSETTO:-0500
TZNAME:EST
DTSTART:20221106T060000
END:STANDARD
BEGIN:DAYLIGHT
TZOFFSETFROM:-0500
TZOFFSETTO:-0400
TZNAME:EDT
DTSTART:20230312T070000
END:DAYLIGHT
BEGIN:STANDARD
TZOFFSETFROM:-0400
TZOFFSETTO:-0500
TZNAME:EST
DTSTART:20231105T060000
END:STANDARD
BEGIN:DAYLIGHT
TZOFFSETFROM:-0500
TZOFFSETTO:-0400
TZNAME:EDT
DTSTART:20240310T070000
END:DAYLIGHT
BEGIN:STANDARD
TZOFFSETFROM:-0400
TZOFFSETTO:-0500
TZNAME:EST
DTSTART:20241103T060000
END:STANDARD
END:VTIMEZONE
BEGIN:VEVENT
DTSTART;TZID=America/New_York:20230906T190000
DTEND;TZID=America/New_York:20230906T220000
DTSTAMP:20260424T153332
CREATED:20230416T163635Z
LAST-MODIFIED:20230905T125550Z
UID:4787-1694026800-1694037600@fmsh.org
SUMMARY:NorthShore Original Open Mic (NOOM) in the Sky Room at Huntington’s Cinema Arts Centre
DESCRIPTION:Ramona’s Soul Purpose (http://www.ramonasoulpurpose.com/) — featuring songwriter Ramona Machson with guitarist Jon Goldstein\, percussionist Chris Howard\, and vocalist Maggie Mills — will be the featured performer during the NorthShore Original Open Mic (NOOM) on Wednesday\, September 6. Co-presented by the Cinema Arts Centre and the Folk Music Society of Huntington in the Cinema’s Sky Room (423 Park Avenue\, Huntington)\, the open mic runs from 7-10 p.m.\, with the featured artist performing a 30-minute set beginning around 8:15 p.m.  Sign-up starts at 6:30 p.m.  Although NOOM is free to attend\, donations will be gratefully accepted.
URL:https://fmsh.org/event/northshore-original-open-mic-noom-in-the-sky-room-at-huntingtons-cinema-arts-centre-32/
CATEGORIES:Hard Luck Cafe and NOOM
ATTACH;FMTTYPE=image/png:https://fmsh.org/wp-content/uploads/2023/04/NOOM-2023.09.06-Ramonas-Soul-Purpose.png
END:VEVENT
BEGIN:VEVENT
DTSTART;TZID=America/New_York:20230913T190000
DTEND;TZID=America/New_York:20230913T220000
DTSTAMP:20260424T153332
CREATED:20230416T164043Z
LAST-MODIFIED:20230909T232942Z
UID:4789-1694631600-1694642400@fmsh.org
SUMMARY:NorthShore Original Open Mic (NOOM) in the Sky Room at Huntington’s Cinema Arts Centre
DESCRIPTION:Christine & Company — with Christine (Kellar) Ambrosini joined by Joanne Ambrosini and John Ambrosini — will be the featured performer during the NorthShore Original Open Mic (NOOM) on Wednesday\, September 13. Co-presented by the Cinema Arts Centre and the Folk Music Society of Huntington in the Cinema’s Sky Room (423 Park Avenue\, Huntington)\, the open mic runs from 7-10 p.m.\, with the featured artist performing a 30-minute set beginning around 8:15 p.m.  Sign-up starts at 6:30 p.m.  Although NOOM is free to attend\, donations will be gratefully accepted.
URL:https://fmsh.org/event/northshore-original-open-mic-noom-in-the-sky-room-at-huntingtons-cinema-arts-centre-33/
CATEGORIES:Hard Luck Cafe and NOOM
ATTACH;FMTTYPE=image/png:https://fmsh.org/wp-content/uploads/2023/04/NOOM-2023.09.13-Christine-Company.png
END:VEVENT
BEGIN:VEVENT
DTSTART;TZID=America/New_York:20230920T190000
DTEND;TZID=America/New_York:20230920T220000
DTSTAMP:20260424T153332
CREATED:20230729T132956Z
LAST-MODIFIED:20230829T172332Z
UID:4850-1695236400-1695247200@fmsh.org
SUMMARY:Hard Luck Café:  Halley Neal -and- Sam Robbins
DESCRIPTION:Nashville-based singer-songwriters Halley Neal (https://halleyneal.com/) and Sam Robbins (https://samrobbinsmusic.com/) will kick off the 2023-2024 season of the monthly Hard Luck Café series co-presented by the Folk Music Society of Huntington and the Cinema Arts Centre (423 Park Avenue\, Huntington) in the Cinema’s Sky Room on Wednesday\, September 20\, from 7-10 p.m. An open mic\, for which sign-up is at 6:30 p.m.\,  precedes the concert. Tickets are $20 ($15 for Cinema Arts Centre/FMSH members) and can be purchased online at https://cinemaartscentre.org or at the box office now through the evening of the event.  \n \nHalley Neal \nHalley Neal\, who cites Joni Mitchell and Shawn Colvin among her inspirations and whose sound is influenced by classic folk music and modern-day singer-songwriters\, was recently named the winner of the SolarFest 2023 Singer-Songwriter Showcase. Since graduating from Berklee College of Music in 2019\, she has released two albums featuring her original songs.  Neal performed at the Kerrville Folk Festival in the Texas Hill Country this year as a finalist in the prestigious Grassy Hill Kerrville New Folk Competition\, as well as in Colorado as part of the Rocky Mountain Folks Fest Songwriter Showcase and the Telluride Troubadour competition. Closer to LI\, she shined during the Grassy Hill Emerging Artist Showcase at the Falcon Ridge Folk Festival in Goshen\, CT.  \n \nSam Robbins \nSam Robbins describes himself as an “old soul singer-songwriter.”  His music evokes that of classic 1970s singer-songwriters like James Taylor and Neil Young\, while he adds a modern edge to the storyteller-troubadour persona.  An avid performer who plays more than 150 shows a year across the country\, Robbins has gained recognition from his extensive touring and as a winner in the Kerrville New Folk Competition for Emerging Songwriters in 2021. This summer\, he performed at the Falcon Ridge Folk Festival as one of the artists voted “Most Wanted to Return” following last year’s Grassy Hill Emerging Artists Showcase. Like Neal\, he is a 2019 graduate of Berklee College of Music\, also originally hails from New England\, and has released two albums.
URL:https://fmsh.org/event/hard-luck-cafe-halley-neal-and-sam-robbins/
CATEGORIES:Hard Luck Cafe and NOOM
ATTACH;FMTTYPE=image/png:https://fmsh.org/wp-content/uploads/2023/07/Halley-Neal.Sam-Robbins-Composite.png
END:VEVENT
BEGIN:VEVENT
DTSTART;TZID=America/New_York:20230927T190000
DTEND;TZID=America/New_York:20230927T220000
DTSTAMP:20260424T153332
CREATED:20230416T164246Z
LAST-MODIFIED:20230926T135259Z
UID:4791-1695841200-1695852000@fmsh.org
SUMMARY:NorthShore Original Open Mic (NOOM) in the Sky Room at Huntington’s Cinema Arts Centre
DESCRIPTION:Dave Rowe (daverowemusic.com) will be the featured performing songwriter during the NorthShore Original Open Mic (NOOM) on Wednesday\, September 27. Co-presented by the Cinema Arts Centre and the Folk Music Society of Huntington in the Cinema’s Sky Room (423 Park Avenue\, Huntington)\, the open mic runs from 7-10 p.m.\, with the featured artist performing a 30-minute set beginning around 8:15 p.m.  Sign-up starts at 6:30 p.m.  Although NOOM is free to attend\, donations will be gratefully accepted. \nDave is a traveling troubadour from Maine —a singer-songwriter and interpreter of traditional and modern song— who has graced stages all over the eastern seaboard and throughout America’s heartland during his 35-year career. Armed with a guitar\, a dream\, a quick wit\, a soaring tenor voice\, and the heart of an entertainer\, this charismatic performer has enthralled audiences everywhere he’s gone — bringing them from raucous sing-alongs to laughter to tears and everything in between.  \nIn recent years\, Dave has traversed the eastern continental U.S. by boat — traveling the Great Loop\, the Atlantic and Gulf Intracoastal Waterways\, and waterways in between\, and singing songs along the way. Dave’s journey aboard has taken him through 24 U.S. states and one Canadian province. His trusty guitar; his yacht\, Stinkpot; and his first mate\, Stacey\, have traveled well north of 12\,000 nautical miles since first casting off in 2018 on this odyssey on the water and the stage.  \nAs he has voyaged\, Dave has been playing to new audiences from yacht clubs to waterside coffee houses\, pubs\, and taverns—making friends and fans along the way. While traveling the Florida Panhandle\, the producers of ABC’s America’s Funniest Videos came into possession of a video of “the captain” in a lighthearted moment on stage and decided it needed to be on the show. With the boat safely docked in Pensacola\, Florida\, they flew Dave out to Los Angeles where his video placed second on the show\, being narrowly edged out of the top spot by a Canadian toddler who desperately wanted cake. \nDave’s music is handmade and heartfelt. It springs from deep roots borne out of the song traditions of Ireland and the British Isles\, cultivated in the roots music of North America\, and filtered through the musical sensibility of a classically-trained musician who is as at home directing a choir or wind ensemble as he is standing with his acoustic guitar in front of a large audience singing songs together. His original songs come from the heart of a poet and the soul of a maestro — examining subject matter as varied as Dave’s interests\, from songs of the sea to historical sketches\, from songs of abiding love to social commentary. \nA natural entertainer and storyteller\, Dave comes to it by birthright. Both grandfathers were professional jazz musicians\, his mother a professional singer\, and his father\, Tom\, was a much revered and talented linchpin of the popular folk trio\, Schooner Fare. They all made sure Dave was classically trained\, gifting this renaissance man the musical foundation to bloom and carry on the family musical tradition.  \n(Dave Rowe photo by Stacey Guth)
URL:https://fmsh.org/event/northshore-original-open-mic-noom-in-the-sky-room-at-huntingtons-cinema-arts-centre-34/
CATEGORIES:Hard Luck Cafe and NOOM
ATTACH;FMTTYPE=image/png:https://fmsh.org/wp-content/uploads/2023/04/Dave-Rowe.png
END:VEVENT
END:VCALENDAR